BEGIN:VCALENDAR
VERSION:2.0
PRODID:-//National Kitten Coalition - ECPv6.15.18//NONSGML v1.0//EN
CALSCALE:GREGORIAN
METHOD:PUBLISH
X-WR-CALNAME:National Kitten Coalition
X-ORIGINAL-URL:https://kittencoalition.org
X-WR-CALDESC:Events for National Kitten Coalition
REFRESH-INTERVAL;VALUE=DURATION:PT1H
X-Robots-Tag:noindex
X-PUBLISHED-TTL:PT1H
BEGIN:VTIMEZONE
TZID:America/New_York
BEGIN:DAYLIGHT
TZOFFSETFROM:-0500
TZOFFSETTO:-0400
TZNAME:EDT
DTSTART:20220313T070000
END:DAYLIGHT
BEGIN:STANDARD
TZOFFSETFROM:-0400
TZOFFSETTO:-0500
TZNAME:EST
DTSTART:20221106T060000
END:STANDARD
BEGIN:DAYLIGHT
TZOFFSETFROM:-0500
TZOFFSETTO:-0400
TZNAME:EDT
DTSTART:20230312T070000
END:DAYLIGHT
BEGIN:STANDARD
TZOFFSETFROM:-0400
TZOFFSETTO:-0500
TZNAME:EST
DTSTART:20231105T060000
END:STANDARD
BEGIN:DAYLIGHT
TZOFFSETFROM:-0500
TZOFFSETTO:-0400
TZNAME:EDT
DTSTART:20240310T070000
END:DAYLIGHT
BEGIN:STANDARD
TZOFFSETFROM:-0400
TZOFFSETTO:-0500
TZNAME:EST
DTSTART:20241103T060000
END:STANDARD
END:VTIMEZONE
BEGIN:VEVENT
DTSTART;TZID=America/New_York:20231108T190000
DTEND;TZID=America/New_York:20231108T200000
DTSTAMP:20260421T102447
CREATED:20230908T012409Z
LAST-MODIFIED:20230908T012409Z
UID:12844-1699470000-1699473600@kittencoalition.org
SUMMARY:Sanitation and Cleaning for Kitten Caregivers
DESCRIPTION:With thorough cleaning and sanitation\, you can significantly lower the risk of virus and disease transmission in your shelter or home. \nJoin us for a presentation on the current protocols and best practices for cleaning and sanitization when handling and caring for kittens. We will discuss effective products and procedures for disinfecting rooms\, cages\, bedding\, and litter boxes to help keep your kittens safe. \nPresenter: Susan Spaulding \nClick here to register for this free webinar!
URL:https://kittencoalition.org/event/sanitation-and-cleaning-for-kitten-caregivers/
CATEGORIES:Webinar
ATTACH;FMTTYPE=image/jpeg:https://kittencoalition.org/wp-content/uploads/EC_Cleaning-Sanitation_11-2023.jpg
END:VEVENT
BEGIN:VEVENT
DTSTART;TZID=America/New_York:20231117T120000
DTEND;TZID=America/New_York:20231117T130000
DTSTAMP:20260421T102447
CREATED:20231118T003452Z
LAST-MODIFIED:20231118T003452Z
UID:13281-1700222400-1700226000@kittencoalition.org
SUMMARY:Private Event: Lunch and Learn
DESCRIPTION:The National Kitten Coalition is offering a Lunch and Learn presentation at Kansas State University.
URL:https://kittencoalition.org/event/private-event-lunch-and-learn/
CATEGORIES:Private Event
ATTACH;FMTTYPE=image/jpeg:https://kittencoalition.org/wp-content/uploads/2023/11/EC_Kansas-State-Lunch-and-Learn-1.jpg
END:VEVENT
BEGIN:VEVENT
DTSTART;VALUE=DATE:20231119
DTEND;VALUE=DATE:20231120
DTSTAMP:20260421T102447
CREATED:20231103T145004Z
LAST-MODIFIED:20231120T220410Z
UID:13200-1700352000-1700438399@kittencoalition.org
SUMMARY:Private Full-Day Workshop
DESCRIPTION:The National Kitten Coalition is presenting a private\, all-day training workshop in Iowa City\, Iowa. This workshop will focus on a wide range of kitten care topics\, including social development\, nutrition\, medical concerns like diarrhea\, early recognition of illness\, stabilizing kittens and more!
URL:https://kittencoalition.org/event/private-full-day-workshop/
CATEGORIES:Workshop
ATTACH;FMTTYPE=image/jpeg:https://kittencoalition.org/wp-content/uploads/2023/11/EC_Iowa-private_11-19-2023.jpg
END:VEVENT
END:VCALENDAR