BEGIN:VCALENDAR
VERSION:2.0
PRODID:-//National Kitten Coalition - ECPv6.15.18//NONSGML v1.0//EN
CALSCALE:GREGORIAN
METHOD:PUBLISH
X-WR-CALNAME:National Kitten Coalition
X-ORIGINAL-URL:https://kittencoalition.org
X-WR-CALDESC:Events for National Kitten Coalition
REFRESH-INTERVAL;VALUE=DURATION:PT1H
X-Robots-Tag:noindex
X-PUBLISHED-TTL:PT1H
BEGIN:VTIMEZONE
TZID:America/New_York
BEGIN:DAYLIGHT
TZOFFSETFROM:-0500
TZOFFSETTO:-0400
TZNAME:EDT
DTSTART:20220313T070000
END:DAYLIGHT
BEGIN:STANDARD
TZOFFSETFROM:-0400
TZOFFSETTO:-0500
TZNAME:EST
DTSTART:20221106T060000
END:STANDARD
BEGIN:DAYLIGHT
TZOFFSETFROM:-0500
TZOFFSETTO:-0400
TZNAME:EDT
DTSTART:20230312T070000
END:DAYLIGHT
BEGIN:STANDARD
TZOFFSETFROM:-0400
TZOFFSETTO:-0500
TZNAME:EST
DTSTART:20231105T060000
END:STANDARD
BEGIN:DAYLIGHT
TZOFFSETFROM:-0500
TZOFFSETTO:-0400
TZNAME:EDT
DTSTART:20240310T070000
END:DAYLIGHT
BEGIN:STANDARD
TZOFFSETFROM:-0400
TZOFFSETTO:-0500
TZNAME:EST
DTSTART:20241103T060000
END:STANDARD
END:VTIMEZONE
BEGIN:VEVENT
DTSTART;TZID=America/New_York:20230506T120000
DTEND;TZID=America/New_York:20230506T133000
DTSTAMP:20260419T085602
CREATED:20230407T174804Z
LAST-MODIFIED:20230408T185245Z
UID:12008-1683374400-1683379800@kittencoalition.org
SUMMARY:Getting Ready for your New Family Member
DESCRIPTION:EveryCat Health Foundation and the National Kitten Coalition are hosting a three-part Webinar Series\, “The Art of Raising a Happy\, Healthy Kitten”. \nIf you are planning to or have recently added a new kitten to your family or are looking for information to share with new kitten families in your community\, this series will provide crucial information for raising a kitten into a happy\, healthy cat. \nPart One: Getting Ready for your New Family Member\nThis webinar will cover:\n– Selecting the right kitten (evaluating your needs and expectations\, where to go\,  the questions to ask)\n– Preparing your home (kitten proofing\, necessary supplies\, litterbox logistics)\n– Where to go for help (finding the support you need) \nSpeakers: TBA \nRegister for three-part webinar series HERE! \nCheck out information about all three webinars \nThe three webinars are free\, thanks to the generous support of our sponsors: \n \nReturn to Event Calendar →
URL:https://kittencoalition.org/event/getting-ready-for-your-new-family-member/
CATEGORIES:Webinar
ATTACH;FMTTYPE=image/jpeg:https://kittencoalition.org/wp-content/uploads/NKC_ECF_webinars-Part-1.jpg
END:VEVENT
BEGIN:VEVENT
DTSTART;TZID=America/New_York:20230520T120000
DTEND;TZID=America/New_York:20230520T133000
DTSTAMP:20260419T085603
CREATED:20230407T175716Z
LAST-MODIFIED:20230408T185047Z
UID:12032-1684584000-1684589400@kittencoalition.org
SUMMARY:Raising a Happy Kitten
DESCRIPTION:EveryCat Health Foundation and the National Kitten Coalition are hosting a three-part Webinar Series\, “The Art of Raising a Happy\, Healthy Kitten”. \nIf you are planning to or have recently added a new kitten to your family or are looking for information to share with new kitten families in your community\, this series will provide crucial information for raising a kitten into a happy\, healthy cat. \nPart Two: Raising a Happy Kitten\nThis webinar will cover:\n– Socialization (kitten kindergarten\, introduction to new experiences)\n– Understanding Behavior (environmental enrichment\, appropriate play)\n– Fear free handling (training techniques) \nSpeakers:\n– Tabitha Kucera\, RVT\, VTS (Behavior)\, CCBC\, KPA-CTP\, Elite Fear Free Certified\n– Jessica Benoit\, RVT\, VTS (Behavior)\, KPA-CTP\, CPDT-KA\, Elite Fear Free Certified \nRegister for three-part webinar series HERE! \nCheck out information about all three webinars \nThe three webinars are free\, thanks to the generous support of our sponsors: \n \nReturn to Event Calendar →
URL:https://kittencoalition.org/event/raising-a-happy-kitten/
CATEGORIES:Webinar
ATTACH;FMTTYPE=image/jpeg:https://kittencoalition.org/wp-content/uploads/NKC_ECF_webinars-Part-2.jpg
END:VEVENT
END:VCALENDAR