BEGIN:VCALENDAR
VERSION:2.0
PRODID:-//National Kitten Coalition - ECPv6.15.18//NONSGML v1.0//EN
CALSCALE:GREGORIAN
METHOD:PUBLISH
X-WR-CALNAME:National Kitten Coalition
X-ORIGINAL-URL:https://kittencoalition.org
X-WR-CALDESC:Events for National Kitten Coalition
REFRESH-INTERVAL;VALUE=DURATION:PT1H
X-Robots-Tag:noindex
X-PUBLISHED-TTL:PT1H
BEGIN:VTIMEZONE
TZID:America/New_York
BEGIN:DAYLIGHT
TZOFFSETFROM:-0500
TZOFFSETTO:-0400
TZNAME:EDT
DTSTART:20240310T070000
END:DAYLIGHT
BEGIN:STANDARD
TZOFFSETFROM:-0400
TZOFFSETTO:-0500
TZNAME:EST
DTSTART:20241103T060000
END:STANDARD
BEGIN:DAYLIGHT
TZOFFSETFROM:-0500
TZOFFSETTO:-0400
TZNAME:EDT
DTSTART:20250309T070000
END:DAYLIGHT
BEGIN:STANDARD
TZOFFSETFROM:-0400
TZOFFSETTO:-0500
TZNAME:EST
DTSTART:20251102T060000
END:STANDARD
BEGIN:DAYLIGHT
TZOFFSETFROM:-0500
TZOFFSETTO:-0400
TZNAME:EDT
DTSTART:20260308T070000
END:DAYLIGHT
BEGIN:STANDARD
TZOFFSETFROM:-0400
TZOFFSETTO:-0500
TZNAME:EST
DTSTART:20261101T060000
END:STANDARD
END:VTIMEZONE
BEGIN:VEVENT
DTSTART;TZID=America/New_York:20251008T193000
DTEND;TZID=America/New_York:20251008T200000
DTSTAMP:20260422T060126
CREATED:20250828T233304Z
LAST-MODIFIED:20250829T014858Z
UID:14933-1759951800-1759953600@kittencoalition.org
SUMMARY:Incubators—All of Your Questions Answered
DESCRIPTION:Join us for a fast-paced\, informative webinar designed specifically for kitten caregivers: Incubators—All of Your Questions Answered. In just 15 minutes\, we’ll walk through the essentials of incubator use for neonatal kittens—what to look for\, how to set up and monitor safely\, and common troubleshooting tips. Then\, stay for a live 15-minute Q&A session where you can ask your own questions or listen in as others share theirs. Whether you’re fostering\, working in a shelter\, or supporting fragile feline lives in any capacity\, this session is for you. \nCan’t attend live? No problem—register anyway! All registrants will receive a recording link after the event so you can watch on your own time. Click here to register for this FREE webinar! \nPresenter: Emily A. Coleman\, DVM \nDr. Emily A. Coleman grew up in Baltimore\, Maryland and acquired a Bachelor of Science at the University of Mary Washington in Fredericksburg\, Virginia in 2005. She then attended the Virginia Maryland College of Veterinary Medicine at Virginia Tech in Blacksburg\, Virginia\, graduating and receiving her DVM in 2009. After over ten years in private practice and shelter medicine\, Dr. Coleman decided to think outside of the box and to start her own mobile feline spay/neuter/TNR and preventative care practice dedicated to supporting 501c3 nonprofit rescue organizations in Central Virginia. The Celtic Cat\, LLC opened in November 2021 and has since assisted over twenty organizations with their veterinary care of cats and kittens. \nDr. Coleman’s veterinary interests include neonatal kitten care\, preventative surgery and medicine\, as well as geriatric care. Dr. Coleman serves as the IACUC veterinarian at the University of Mary Washington and has served on the Board of Directors for The National Kitten Coalition since 2023. Dr. Coleman has spoken on behalf of NKC at national veterinary conferences\, and she regularly hosts NKC webinars. \nShe currently lives in Spotsylvania\, Virginia with her husband\, cats\, dogs and chickens and fosters the most vulnerable neonatal kittens from surrounding counties each year\, typically receiving them at just a few days old. When not busy with her foster kittens she enjoys attending live music events\, reading\, gardening and practicing yoga.
URL:https://kittencoalition.org/event/incubators-all-of-your-questions-answered/
CATEGORIES:Webinar
ATTACH;FMTTYPE=image/jpeg:https://kittencoalition.org/wp-content/uploads/2025/08/Incubators-Questions-Answered_October-2025.jpg
END:VEVENT
END:VCALENDAR