BEGIN:VCALENDAR
VERSION:2.0
PRODID:-//National Kitten Coalition - ECPv6.15.18//NONSGML v1.0//EN
CALSCALE:GREGORIAN
METHOD:PUBLISH
X-WR-CALNAME:National Kitten Coalition
X-ORIGINAL-URL:https://kittencoalition.org
X-WR-CALDESC:Events for National Kitten Coalition
REFRESH-INTERVAL;VALUE=DURATION:PT1H
X-Robots-Tag:noindex
X-PUBLISHED-TTL:PT1H
BEGIN:VTIMEZONE
TZID:America/New_York
BEGIN:DAYLIGHT
TZOFFSETFROM:-0500
TZOFFSETTO:-0400
TZNAME:EDT
DTSTART:20220313T070000
END:DAYLIGHT
BEGIN:STANDARD
TZOFFSETFROM:-0400
TZOFFSETTO:-0500
TZNAME:EST
DTSTART:20221106T060000
END:STANDARD
BEGIN:DAYLIGHT
TZOFFSETFROM:-0500
TZOFFSETTO:-0400
TZNAME:EDT
DTSTART:20230312T070000
END:DAYLIGHT
BEGIN:STANDARD
TZOFFSETFROM:-0400
TZOFFSETTO:-0500
TZNAME:EST
DTSTART:20231105T060000
END:STANDARD
BEGIN:DAYLIGHT
TZOFFSETFROM:-0500
TZOFFSETTO:-0400
TZNAME:EDT
DTSTART:20240310T070000
END:DAYLIGHT
BEGIN:STANDARD
TZOFFSETFROM:-0400
TZOFFSETTO:-0500
TZNAME:EST
DTSTART:20241103T060000
END:STANDARD
END:VTIMEZONE
BEGIN:VEVENT
DTSTART;TZID=America/New_York:20230727T140000
DTEND;TZID=America/New_York:20230727T150000
DTSTAMP:20260421T070251
CREATED:20230714T005844Z
LAST-MODIFIED:20230724T172009Z
UID:12495-1690466400-1690470000@kittencoalition.org
SUMMARY:Ask NKC- Q&A Session on Parasites
DESCRIPTION:Come ask The National Kitten Coalition’s kitten experts\, Susan Spaulding\, aka ‘The Nation’s Kitten Mom’ and NKC’s Rosemarie Crawford\, LVT\, your most pressing kitten parasite questions! \nYou can submit your questions during the registration and during the webinar. You can also submit questions before the webinar using this link – https://forms.gle/m48TzTZgotDJzXht6 \nPresenters: Susan Spaulding and Rosemarie Crawford\, LVT \nClick to register for this free webinar!
URL:https://kittencoalition.org/event/ask-nkc-qa-session-on-parasites/
CATEGORIES:Webinar
ATTACH;FMTTYPE=image/jpeg:https://kittencoalition.org/wp-content/uploads/EC_Parasites-QA_7-27-2023.jpg
END:VEVENT
END:VCALENDAR