BEGIN:VCALENDAR
VERSION:2.0
PRODID:-//National Kitten Coalition - ECPv6.15.18//NONSGML v1.0//EN
CALSCALE:GREGORIAN
METHOD:PUBLISH
X-ORIGINAL-URL:https://kittencoalition.org
X-WR-CALDESC:Events for National Kitten Coalition
REFRESH-INTERVAL;VALUE=DURATION:PT1H
X-Robots-Tag:noindex
X-PUBLISHED-TTL:PT1H
BEGIN:VTIMEZONE
TZID:America/New_York
BEGIN:DAYLIGHT
TZOFFSETFROM:-0500
TZOFFSETTO:-0400
TZNAME:EDT
DTSTART:20220313T070000
END:DAYLIGHT
BEGIN:STANDARD
TZOFFSETFROM:-0400
TZOFFSETTO:-0500
TZNAME:EST
DTSTART:20221106T060000
END:STANDARD
BEGIN:DAYLIGHT
TZOFFSETFROM:-0500
TZOFFSETTO:-0400
TZNAME:EDT
DTSTART:20230312T070000
END:DAYLIGHT
BEGIN:STANDARD
TZOFFSETFROM:-0400
TZOFFSETTO:-0500
TZNAME:EST
DTSTART:20231105T060000
END:STANDARD
BEGIN:DAYLIGHT
TZOFFSETFROM:-0500
TZOFFSETTO:-0400
TZNAME:EDT
DTSTART:20240310T070000
END:DAYLIGHT
BEGIN:STANDARD
TZOFFSETFROM:-0400
TZOFFSETTO:-0500
TZNAME:EST
DTSTART:20241103T060000
END:STANDARD
END:VTIMEZONE
BEGIN:VEVENT
DTSTART;VALUE=DATE:20230714
DTEND;VALUE=DATE:20230719
DTSTAMP:20260421T070737
CREATED:20230430T213525Z
LAST-MODIFIED:20230430T213846Z
UID:12172-1689292800-1689724799@kittencoalition.org
SUMMARY:2023 AVMA Convention
DESCRIPTION:The National Kitten Coalition (NKC) will be exhibiting at the American Veterinary Medical Association (AVMA) convention\, taking place in Denver\, July 14-18\, 2023. \nWe look forward to sharing our lifesaving kitten resources with the more than 7\,000 veterinary professionals who will attend. Please stop by our exhibit booth\, #2021! \nLearn more about the 2023 AVMA Conference and register here!
URL:https://kittencoalition.org/event/2023-avma-convention/
CATEGORIES:Conference
ATTACH;FMTTYPE=image/jpeg:https://kittencoalition.org/wp-content/uploads/EC_AVMA-2023.jpg
END:VEVENT
END:VCALENDAR