BEGIN:VCALENDAR
VERSION:2.0
PRODID:-//National Kitten Coalition - ECPv6.15.18//NONSGML v1.0//EN
CALSCALE:GREGORIAN
METHOD:PUBLISH
X-ORIGINAL-URL:https://kittencoalition.org
X-WR-CALDESC:Events for National Kitten Coalition
REFRESH-INTERVAL;VALUE=DURATION:PT1H
X-Robots-Tag:noindex
X-PUBLISHED-TTL:PT1H
BEGIN:VTIMEZONE
TZID:America/New_York
BEGIN:DAYLIGHT
TZOFFSETFROM:-0500
TZOFFSETTO:-0400
TZNAME:EDT
DTSTART:20220313T070000
END:DAYLIGHT
BEGIN:STANDARD
TZOFFSETFROM:-0400
TZOFFSETTO:-0500
TZNAME:EST
DTSTART:20221106T060000
END:STANDARD
BEGIN:DAYLIGHT
TZOFFSETFROM:-0500
TZOFFSETTO:-0400
TZNAME:EDT
DTSTART:20230312T070000
END:DAYLIGHT
BEGIN:STANDARD
TZOFFSETFROM:-0400
TZOFFSETTO:-0500
TZNAME:EST
DTSTART:20231105T060000
END:STANDARD
BEGIN:DAYLIGHT
TZOFFSETFROM:-0500
TZOFFSETTO:-0400
TZNAME:EDT
DTSTART:20240310T070000
END:DAYLIGHT
BEGIN:STANDARD
TZOFFSETFROM:-0400
TZOFFSETTO:-0500
TZNAME:EST
DTSTART:20241103T060000
END:STANDARD
END:VTIMEZONE
BEGIN:VEVENT
DTSTART;TZID=America/New_York:20230609T190000
DTEND;TZID=America/New_York:20230611T190000
DTSTAMP:20260421T084532
CREATED:20221125T231102Z
LAST-MODIFIED:20230508T202548Z
UID:11347-1686337200-1686510000@kittencoalition.org
SUMMARY:Online Kitten Conference_2023
DESCRIPTION:The Online Kitten Conference is a virtual convention for anyone who’d like to create a better future for the smallest felines! Join us for this kitten-focused event presented by The National Kitten Coalition in partnership with the Community Cats Podcast. This three-day virtual gathering will feature presentations by experts on raising and saving kittens\, setting up and managing kitten-centered shelter programs\, and more. \nSince this is a virtual event\, you’ll have an opportunity to gain valuable insights and have your questions answered by some of the most knowledgeable leaders in the animal welfare community—without the expense and hassle of traveling. \nRegister for The Online Kitten Conference here. \nReturn to Event Calendar →
URL:https://kittencoalition.org/event/online-kitten-conference_2023/
CATEGORIES:Conference
ATTACH;FMTTYPE=image/jpeg:https://kittencoalition.org/wp-content/uploads/EC_OKC_2023-SM.jpg
END:VEVENT
END:VCALENDAR