BEGIN:VCALENDAR
VERSION:2.0
PRODID:-//National Kitten Coalition - ECPv6.15.18//NONSGML v1.0//EN
CALSCALE:GREGORIAN
METHOD:PUBLISH
X-ORIGINAL-URL:https://kittencoalition.org
X-WR-CALDESC:Events for National Kitten Coalition
REFRESH-INTERVAL;VALUE=DURATION:PT1H
X-Robots-Tag:noindex
X-PUBLISHED-TTL:PT1H
BEGIN:VTIMEZONE
TZID:America/New_York
BEGIN:DAYLIGHT
TZOFFSETFROM:-0500
TZOFFSETTO:-0400
TZNAME:EDT
DTSTART:20220313T070000
END:DAYLIGHT
BEGIN:STANDARD
TZOFFSETFROM:-0400
TZOFFSETTO:-0500
TZNAME:EST
DTSTART:20221106T060000
END:STANDARD
BEGIN:DAYLIGHT
TZOFFSETFROM:-0500
TZOFFSETTO:-0400
TZNAME:EDT
DTSTART:20230312T070000
END:DAYLIGHT
BEGIN:STANDARD
TZOFFSETFROM:-0400
TZOFFSETTO:-0500
TZNAME:EST
DTSTART:20231105T060000
END:STANDARD
BEGIN:DAYLIGHT
TZOFFSETFROM:-0500
TZOFFSETTO:-0400
TZNAME:EDT
DTSTART:20240310T070000
END:DAYLIGHT
BEGIN:STANDARD
TZOFFSETFROM:-0400
TZOFFSETTO:-0500
TZNAME:EST
DTSTART:20241103T060000
END:STANDARD
END:VTIMEZONE
BEGIN:VEVENT
DTSTART;TZID=America/New_York:20230603T120000
DTEND;TZID=America/New_York:20230603T133000
DTSTAMP:20260421T063418
CREATED:20230407T175912Z
LAST-MODIFIED:20230408T185000Z
UID:12042-1685793600-1685799000@kittencoalition.org
SUMMARY:Raising a Healthy Kitten
DESCRIPTION:EveryCat Health Foundation and the National Kitten Coalition are hosting a three-part Webinar Series\, “The Art of Raising a Happy\, Healthy Kitten”. \nIf you are planning to or have recently added a new kitten to your family or are looking for information to share with new kitten families in your community\, this series will provide crucial information for raising a kitten into a happy\, healthy cat. \nPart Three: Raising a Healthy Kitten\nThis webinar will cover:\n– Routine Vet Care: (finding a cat-friendly practice\, vaccines\, spay/neuter)\n– Normal Development: (growth and nutrition)\n– Common Health issues: (what to watch for to help decide when to go to the vet) \nSpeakers:\n– Vicki Thayer\, DVM\, DABVP (Feline)\n– Kelly St. Denis\, DVM\, MS\, DABVP (Feline) \nRegister for three-part webinar series HERE! \nCheck out information about all three webinars \nThe three webinars are free\, thanks to the generous support of our sponsors: \n \nReturn to Event Calendar →
URL:https://kittencoalition.org/event/raising-a-healthy-kitten/
CATEGORIES:Webinar
ATTACH;FMTTYPE=image/jpeg:https://kittencoalition.org/wp-content/uploads/NKC-ECF_webinars-Part-3.jpg
END:VEVENT
END:VCALENDAR