BEGIN:VCALENDAR
VERSION:2.0
PRODID:-//National Kitten Coalition - ECPv6.15.18//NONSGML v1.0//EN
CALSCALE:GREGORIAN
METHOD:PUBLISH
X-WR-CALNAME:National Kitten Coalition
X-ORIGINAL-URL:https://kittencoalition.org
X-WR-CALDESC:Events for National Kitten Coalition
REFRESH-INTERVAL;VALUE=DURATION:PT1H
X-Robots-Tag:noindex
X-PUBLISHED-TTL:PT1H
BEGIN:VTIMEZONE
TZID:America/New_York
BEGIN:DAYLIGHT
TZOFFSETFROM:-0500
TZOFFSETTO:-0400
TZNAME:EDT
DTSTART:20220313T070000
END:DAYLIGHT
BEGIN:STANDARD
TZOFFSETFROM:-0400
TZOFFSETTO:-0500
TZNAME:EST
DTSTART:20221106T060000
END:STANDARD
BEGIN:DAYLIGHT
TZOFFSETFROM:-0500
TZOFFSETTO:-0400
TZNAME:EDT
DTSTART:20230312T070000
END:DAYLIGHT
BEGIN:STANDARD
TZOFFSETFROM:-0400
TZOFFSETTO:-0500
TZNAME:EST
DTSTART:20231105T060000
END:STANDARD
BEGIN:DAYLIGHT
TZOFFSETFROM:-0500
TZOFFSETTO:-0400
TZNAME:EDT
DTSTART:20240310T070000
END:DAYLIGHT
BEGIN:STANDARD
TZOFFSETFROM:-0400
TZOFFSETTO:-0500
TZNAME:EST
DTSTART:20241103T060000
END:STANDARD
END:VTIMEZONE
BEGIN:VEVENT
DTSTART;VALUE=DATE:20230415
DTEND;VALUE=DATE:20230418
DTSTAMP:20260419T085601
CREATED:20221125T231012Z
LAST-MODIFIED:20230408T185533Z
UID:11371-1681516800-1681775999@kittencoalition.org
SUMMARY:2023 New England Federation of Humane Societies Conference
DESCRIPTION:The NKC will be presenting at the New England Federation of Humane Societies Conference! Our topic is Splendid Kitten Care from Intake through Adoption. \nThe 2023 conference will take place April 15-17 in Hartford\, Connecticut. We’re hoping to see some old friends there and look forward to making new ones too! \nVisit https://www.newenglandfed.org/2023-nefhs-conference/ for more information. \nReturn to Event Calendar →
URL:https://kittencoalition.org/event/2023-new-england-federation-of-humane-societies-conference/
CATEGORIES:Conference
ATTACH;FMTTYPE=image/jpeg:https://kittencoalition.org/wp-content/uploads/NEFHS_2023-1.jpg
END:VEVENT
END:VCALENDAR